BEGIN:VCALENDAR
VERSION:2.0
PRODID:-//Vero Beach Italian American Civic Association - ECPv6.15.16.1//NONSGML v1.0//EN
CALSCALE:GREGORIAN
METHOD:PUBLISH
X-WR-CALNAME:Vero Beach Italian American Civic Association
X-ORIGINAL-URL:https://italianamericanvero.com
X-WR-CALDESC:Events for Vero Beach Italian American Civic Association
REFRESH-INTERVAL;VALUE=DURATION:PT1H
X-Robots-Tag:noindex
X-PUBLISHED-TTL:PT1H
BEGIN:VTIMEZONE
TZID:America/New_York
BEGIN:DAYLIGHT
TZOFFSETFROM:-0500
TZOFFSETTO:-0400
TZNAME:EDT
DTSTART:20250309T070000
END:DAYLIGHT
BEGIN:STANDARD
TZOFFSETFROM:-0400
TZOFFSETTO:-0500
TZNAME:EST
DTSTART:20251102T060000
END:STANDARD
BEGIN:DAYLIGHT
TZOFFSETFROM:-0500
TZOFFSETTO:-0400
TZNAME:EDT
DTSTART:20260308T070000
END:DAYLIGHT
BEGIN:STANDARD
TZOFFSETFROM:-0400
TZOFFSETTO:-0500
TZNAME:EST
DTSTART:20261101T060000
END:STANDARD
BEGIN:DAYLIGHT
TZOFFSETFROM:-0500
TZOFFSETTO:-0400
TZNAME:EDT
DTSTART:20270314T070000
END:DAYLIGHT
BEGIN:STANDARD
TZOFFSETFROM:-0400
TZOFFSETTO:-0500
TZNAME:EST
DTSTART:20271107T060000
END:STANDARD
END:VTIMEZONE
BEGIN:VEVENT
DTSTART;TZID=America/New_York:20260423T180000
DTEND;TZID=America/New_York:20260423T200000
DTSTAMP:20260423T111848
CREATED:20251111T133044Z
LAST-MODIFIED:20260417T123924Z
UID:10004673-1776967200-1776974400@italianamericanvero.com
SUMMARY:Bar Bingo
DESCRIPTION:Bar Bingo from 6 to 8 pm around Mario’s Bar.  Come join the fun!\nDinner available.  Bar open from 4 to 9 …\n  \n  \n 
URL:https://italianamericanvero.com/event/bar-bingo/2026-04-23/
LOCATION:Italian American Civic Association\, 1600 25th St.\, Vero Beach\, FL\, 32966
CATEGORIES:General Events
ATTACH;FMTTYPE=image/jpeg:https://italianamericanvero.com/wp-content/uploads/2023/12/Bar-Bingo.jpg
END:VEVENT
BEGIN:VEVENT
DTSTART;TZID=America/New_York:20260430T180000
DTEND;TZID=America/New_York:20260430T200000
DTSTAMP:20260423T111848
CREATED:20251111T133044Z
LAST-MODIFIED:20260417T123924Z
UID:10004674-1777572000-1777579200@italianamericanvero.com
SUMMARY:Bar Bingo
DESCRIPTION:Bar Bingo from 6 to 8 pm around Mario’s Bar.  Come join the fun!\nDinner available.  Bar open from 4 to 9 …\n  \n  \n 
URL:https://italianamericanvero.com/event/bar-bingo/2026-04-30/
LOCATION:Italian American Civic Association\, 1600 25th St.\, Vero Beach\, FL\, 32966
CATEGORIES:General Events
ATTACH;FMTTYPE=image/jpeg:https://italianamericanvero.com/wp-content/uploads/2023/12/Bar-Bingo.jpg
END:VEVENT
BEGIN:VEVENT
DTSTART;TZID=America/New_York:20260507T180000
DTEND;TZID=America/New_York:20260507T200000
DTSTAMP:20260423T111848
CREATED:20251111T133044Z
LAST-MODIFIED:20260417T123924Z
UID:10004675-1778176800-1778184000@italianamericanvero.com
SUMMARY:Bar Bingo
DESCRIPTION:Bar Bingo from 6 to 8 pm around Mario’s Bar.  Come join the fun!\nDinner available.  Bar open from 4 to 9 …\n  \n  \n 
URL:https://italianamericanvero.com/event/bar-bingo/2026-05-07/
LOCATION:Italian American Civic Association\, 1600 25th St.\, Vero Beach\, FL\, 32966
CATEGORIES:General Events
ATTACH;FMTTYPE=image/jpeg:https://italianamericanvero.com/wp-content/uploads/2023/12/Bar-Bingo.jpg
END:VEVENT
BEGIN:VEVENT
DTSTART;TZID=America/New_York:20260521T180000
DTEND;TZID=America/New_York:20260521T200000
DTSTAMP:20260423T111848
CREATED:20251111T133044Z
LAST-MODIFIED:20260417T123924Z
UID:10004677-1779386400-1779393600@italianamericanvero.com
SUMMARY:Bar Bingo
DESCRIPTION:Bar Bingo from 6 to 8 pm around Mario’s Bar.  Come join the fun!\nDinner available.  Bar open from 4 to 9 …\n  \n  \n 
URL:https://italianamericanvero.com/event/bar-bingo/2026-05-21/
LOCATION:Italian American Civic Association\, 1600 25th St.\, Vero Beach\, FL\, 32966
CATEGORIES:General Events
ATTACH;FMTTYPE=image/jpeg:https://italianamericanvero.com/wp-content/uploads/2023/12/Bar-Bingo.jpg
END:VEVENT
BEGIN:VEVENT
DTSTART;TZID=America/New_York:20260528T180000
DTEND;TZID=America/New_York:20260528T200000
DTSTAMP:20260423T111848
CREATED:20251111T133044Z
LAST-MODIFIED:20260417T123924Z
UID:10004678-1779991200-1779998400@italianamericanvero.com
SUMMARY:Bar Bingo
DESCRIPTION:Bar Bingo from 6 to 8 pm around Mario’s Bar.  Come join the fun!\nDinner available.  Bar open from 4 to 9 …\n  \n  \n 
URL:https://italianamericanvero.com/event/bar-bingo/2026-05-28/
LOCATION:Italian American Civic Association\, 1600 25th St.\, Vero Beach\, FL\, 32966
CATEGORIES:General Events
ATTACH;FMTTYPE=image/jpeg:https://italianamericanvero.com/wp-content/uploads/2023/12/Bar-Bingo.jpg
END:VEVENT
BEGIN:VEVENT
DTSTART;TZID=America/New_York:20260604T180000
DTEND;TZID=America/New_York:20260604T200000
DTSTAMP:20260423T111848
CREATED:20251111T133044Z
LAST-MODIFIED:20260417T123924Z
UID:10004679-1780596000-1780603200@italianamericanvero.com
SUMMARY:Bar Bingo
DESCRIPTION:Bar Bingo from 6 to 8 pm around Mario’s Bar.  Come join the fun!\nDinner available.  Bar open from 4 to 9 …\n  \n  \n 
URL:https://italianamericanvero.com/event/bar-bingo/2026-06-04/
LOCATION:Italian American Civic Association\, 1600 25th St.\, Vero Beach\, FL\, 32966
CATEGORIES:General Events
ATTACH;FMTTYPE=image/jpeg:https://italianamericanvero.com/wp-content/uploads/2023/12/Bar-Bingo.jpg
END:VEVENT
BEGIN:VEVENT
DTSTART;TZID=America/New_York:20260611T180000
DTEND;TZID=America/New_York:20260611T200000
DTSTAMP:20260423T111848
CREATED:20251111T133044Z
LAST-MODIFIED:20260417T123924Z
UID:10004680-1781200800-1781208000@italianamericanvero.com
SUMMARY:Bar Bingo
DESCRIPTION:Bar Bingo from 6 to 8 pm around Mario’s Bar.  Come join the fun!\nDinner available.  Bar open from 4 to 9 …\n  \n  \n 
URL:https://italianamericanvero.com/event/bar-bingo/2026-06-11/
LOCATION:Italian American Civic Association\, 1600 25th St.\, Vero Beach\, FL\, 32966
CATEGORIES:General Events
ATTACH;FMTTYPE=image/jpeg:https://italianamericanvero.com/wp-content/uploads/2023/12/Bar-Bingo.jpg
END:VEVENT
BEGIN:VEVENT
DTSTART;TZID=America/New_York:20260618T180000
DTEND;TZID=America/New_York:20260618T200000
DTSTAMP:20260423T111848
CREATED:20251111T133044Z
LAST-MODIFIED:20260417T123924Z
UID:10004681-1781805600-1781812800@italianamericanvero.com
SUMMARY:Bar Bingo
DESCRIPTION:Bar Bingo from 6 to 8 pm around Mario’s Bar.  Come join the fun!\nDinner available.  Bar open from 4 to 9 …\n  \n  \n 
URL:https://italianamericanvero.com/event/bar-bingo/2026-06-18/
LOCATION:Italian American Civic Association\, 1600 25th St.\, Vero Beach\, FL\, 32966
CATEGORIES:General Events
ATTACH;FMTTYPE=image/jpeg:https://italianamericanvero.com/wp-content/uploads/2023/12/Bar-Bingo.jpg
END:VEVENT
BEGIN:VEVENT
DTSTART;TZID=America/New_York:20260625T180000
DTEND;TZID=America/New_York:20260625T200000
DTSTAMP:20260423T111848
CREATED:20251111T133044Z
LAST-MODIFIED:20260417T123924Z
UID:10004682-1782410400-1782417600@italianamericanvero.com
SUMMARY:Bar Bingo
DESCRIPTION:Bar Bingo from 6 to 8 pm around Mario’s Bar.  Come join the fun!\nDinner available.  Bar open from 4 to 9 …\n  \n  \n 
URL:https://italianamericanvero.com/event/bar-bingo/2026-06-25/
LOCATION:Italian American Civic Association\, 1600 25th St.\, Vero Beach\, FL\, 32966
CATEGORIES:General Events
ATTACH;FMTTYPE=image/jpeg:https://italianamericanvero.com/wp-content/uploads/2023/12/Bar-Bingo.jpg
END:VEVENT
BEGIN:VEVENT
DTSTART;TZID=America/New_York:20260702T180000
DTEND;TZID=America/New_York:20260702T200000
DTSTAMP:20260423T111848
CREATED:20251111T133044Z
LAST-MODIFIED:20260417T123924Z
UID:10004683-1783015200-1783022400@italianamericanvero.com
SUMMARY:Bar Bingo
DESCRIPTION:Bar Bingo from 6 to 8 pm around Mario’s Bar.  Come join the fun!\nDinner available.  Bar open from 4 to 9 …\n  \n  \n 
URL:https://italianamericanvero.com/event/bar-bingo/2026-07-02/
LOCATION:Italian American Civic Association\, 1600 25th St.\, Vero Beach\, FL\, 32966
CATEGORIES:General Events
ATTACH;FMTTYPE=image/jpeg:https://italianamericanvero.com/wp-content/uploads/2023/12/Bar-Bingo.jpg
END:VEVENT
BEGIN:VEVENT
DTSTART;TZID=America/New_York:20260709T180000
DTEND;TZID=America/New_York:20260709T200000
DTSTAMP:20260423T111848
CREATED:20251111T133044Z
LAST-MODIFIED:20260417T123924Z
UID:10004684-1783620000-1783627200@italianamericanvero.com
SUMMARY:Bar Bingo
DESCRIPTION:Bar Bingo from 6 to 8 pm around Mario’s Bar.  Come join the fun!\nDinner available.  Bar open from 4 to 9 …\n  \n  \n 
URL:https://italianamericanvero.com/event/bar-bingo/2026-07-09/
LOCATION:Italian American Civic Association\, 1600 25th St.\, Vero Beach\, FL\, 32966
CATEGORIES:General Events
ATTACH;FMTTYPE=image/jpeg:https://italianamericanvero.com/wp-content/uploads/2023/12/Bar-Bingo.jpg
END:VEVENT
BEGIN:VEVENT
DTSTART;TZID=America/New_York:20260716T180000
DTEND;TZID=America/New_York:20260716T200000
DTSTAMP:20260423T111848
CREATED:20251111T133044Z
LAST-MODIFIED:20260417T123924Z
UID:10004685-1784224800-1784232000@italianamericanvero.com
SUMMARY:Bar Bingo
DESCRIPTION:Bar Bingo from 6 to 8 pm around Mario’s Bar.  Come join the fun!\nDinner available.  Bar open from 4 to 9 …\n  \n  \n 
URL:https://italianamericanvero.com/event/bar-bingo/2026-07-16/
LOCATION:Italian American Civic Association\, 1600 25th St.\, Vero Beach\, FL\, 32966
CATEGORIES:General Events
ATTACH;FMTTYPE=image/jpeg:https://italianamericanvero.com/wp-content/uploads/2023/12/Bar-Bingo.jpg
END:VEVENT
BEGIN:VEVENT
DTSTART;TZID=America/New_York:20260723T180000
DTEND;TZID=America/New_York:20260723T200000
DTSTAMP:20260423T111848
CREATED:20251111T133044Z
LAST-MODIFIED:20260417T123924Z
UID:10004686-1784829600-1784836800@italianamericanvero.com
SUMMARY:Bar Bingo
DESCRIPTION:Bar Bingo from 6 to 8 pm around Mario’s Bar.  Come join the fun!\nDinner available.  Bar open from 4 to 9 …\n  \n  \n 
URL:https://italianamericanvero.com/event/bar-bingo/2026-07-23/
LOCATION:Italian American Civic Association\, 1600 25th St.\, Vero Beach\, FL\, 32966
CATEGORIES:General Events
ATTACH;FMTTYPE=image/jpeg:https://italianamericanvero.com/wp-content/uploads/2023/12/Bar-Bingo.jpg
END:VEVENT
BEGIN:VEVENT
DTSTART;TZID=America/New_York:20260730T180000
DTEND;TZID=America/New_York:20260730T200000
DTSTAMP:20260423T111848
CREATED:20251111T133044Z
LAST-MODIFIED:20260417T123924Z
UID:10004687-1785434400-1785441600@italianamericanvero.com
SUMMARY:Bar Bingo
DESCRIPTION:Bar Bingo from 6 to 8 pm around Mario’s Bar.  Come join the fun!\nDinner available.  Bar open from 4 to 9 …\n  \n  \n 
URL:https://italianamericanvero.com/event/bar-bingo/2026-07-30/
LOCATION:Italian American Civic Association\, 1600 25th St.\, Vero Beach\, FL\, 32966
CATEGORIES:General Events
ATTACH;FMTTYPE=image/jpeg:https://italianamericanvero.com/wp-content/uploads/2023/12/Bar-Bingo.jpg
END:VEVENT
BEGIN:VEVENT
DTSTART;TZID=America/New_York:20260806T180000
DTEND;TZID=America/New_York:20260806T200000
DTSTAMP:20260423T111848
CREATED:20251111T133044Z
LAST-MODIFIED:20260417T123924Z
UID:10004688-1786039200-1786046400@italianamericanvero.com
SUMMARY:Bar Bingo
DESCRIPTION:Bar Bingo from 6 to 8 pm around Mario’s Bar.  Come join the fun!\nDinner available.  Bar open from 4 to 9 …\n  \n  \n 
URL:https://italianamericanvero.com/event/bar-bingo/2026-08-06/
LOCATION:Italian American Civic Association\, 1600 25th St.\, Vero Beach\, FL\, 32966
CATEGORIES:General Events
ATTACH;FMTTYPE=image/jpeg:https://italianamericanvero.com/wp-content/uploads/2023/12/Bar-Bingo.jpg
END:VEVENT
BEGIN:VEVENT
DTSTART;TZID=America/New_York:20260813T180000
DTEND;TZID=America/New_York:20260813T200000
DTSTAMP:20260423T111848
CREATED:20251111T133044Z
LAST-MODIFIED:20260417T123924Z
UID:10004689-1786644000-1786651200@italianamericanvero.com
SUMMARY:Bar Bingo
DESCRIPTION:Bar Bingo from 6 to 8 pm around Mario’s Bar.  Come join the fun!\nDinner available.  Bar open from 4 to 9 …\n  \n  \n 
URL:https://italianamericanvero.com/event/bar-bingo/2026-08-13/
LOCATION:Italian American Civic Association\, 1600 25th St.\, Vero Beach\, FL\, 32966
CATEGORIES:General Events
ATTACH;FMTTYPE=image/jpeg:https://italianamericanvero.com/wp-content/uploads/2023/12/Bar-Bingo.jpg
END:VEVENT
BEGIN:VEVENT
DTSTART;TZID=America/New_York:20260820T180000
DTEND;TZID=America/New_York:20260820T200000
DTSTAMP:20260423T111848
CREATED:20251111T133044Z
LAST-MODIFIED:20260417T123924Z
UID:10004690-1787248800-1787256000@italianamericanvero.com
SUMMARY:Bar Bingo
DESCRIPTION:Bar Bingo from 6 to 8 pm around Mario’s Bar.  Come join the fun!\nDinner available.  Bar open from 4 to 9 …\n  \n  \n 
URL:https://italianamericanvero.com/event/bar-bingo/2026-08-20/
LOCATION:Italian American Civic Association\, 1600 25th St.\, Vero Beach\, FL\, 32966
CATEGORIES:General Events
ATTACH;FMTTYPE=image/jpeg:https://italianamericanvero.com/wp-content/uploads/2023/12/Bar-Bingo.jpg
END:VEVENT
BEGIN:VEVENT
DTSTART;TZID=America/New_York:20260827T180000
DTEND;TZID=America/New_York:20260827T200000
DTSTAMP:20260423T111848
CREATED:20251111T133044Z
LAST-MODIFIED:20260417T123924Z
UID:10004691-1787853600-1787860800@italianamericanvero.com
SUMMARY:Bar Bingo
DESCRIPTION:Bar Bingo from 6 to 8 pm around Mario’s Bar.  Come join the fun!\nDinner available.  Bar open from 4 to 9 …\n  \n  \n 
URL:https://italianamericanvero.com/event/bar-bingo/2026-08-27/
LOCATION:Italian American Civic Association\, 1600 25th St.\, Vero Beach\, FL\, 32966
CATEGORIES:General Events
ATTACH;FMTTYPE=image/jpeg:https://italianamericanvero.com/wp-content/uploads/2023/12/Bar-Bingo.jpg
END:VEVENT
BEGIN:VEVENT
DTSTART;TZID=America/New_York:20260903T180000
DTEND;TZID=America/New_York:20260903T200000
DTSTAMP:20260423T111848
CREATED:20251111T133044Z
LAST-MODIFIED:20260417T123924Z
UID:10004692-1788458400-1788465600@italianamericanvero.com
SUMMARY:Bar Bingo
DESCRIPTION:Bar Bingo from 6 to 8 pm around Mario’s Bar.  Come join the fun!\nDinner available.  Bar open from 4 to 9 …\n  \n  \n 
URL:https://italianamericanvero.com/event/bar-bingo/2026-09-03/
LOCATION:Italian American Civic Association\, 1600 25th St.\, Vero Beach\, FL\, 32966
CATEGORIES:General Events
ATTACH;FMTTYPE=image/jpeg:https://italianamericanvero.com/wp-content/uploads/2023/12/Bar-Bingo.jpg
END:VEVENT
BEGIN:VEVENT
DTSTART;TZID=America/New_York:20260910T180000
DTEND;TZID=America/New_York:20260910T200000
DTSTAMP:20260423T111848
CREATED:20251111T133044Z
LAST-MODIFIED:20260417T123924Z
UID:10004693-1789063200-1789070400@italianamericanvero.com
SUMMARY:Bar Bingo
DESCRIPTION:Bar Bingo from 6 to 8 pm around Mario’s Bar.  Come join the fun!\nDinner available.  Bar open from 4 to 9 …\n  \n  \n 
URL:https://italianamericanvero.com/event/bar-bingo/2026-09-10/
LOCATION:Italian American Civic Association\, 1600 25th St.\, Vero Beach\, FL\, 32966
CATEGORIES:General Events
ATTACH;FMTTYPE=image/jpeg:https://italianamericanvero.com/wp-content/uploads/2023/12/Bar-Bingo.jpg
END:VEVENT
BEGIN:VEVENT
DTSTART;TZID=America/New_York:20260917T180000
DTEND;TZID=America/New_York:20260917T200000
DTSTAMP:20260423T111848
CREATED:20251111T133044Z
LAST-MODIFIED:20260417T123924Z
UID:10004694-1789668000-1789675200@italianamericanvero.com
SUMMARY:Bar Bingo
DESCRIPTION:Bar Bingo from 6 to 8 pm around Mario’s Bar.  Come join the fun!\nDinner available.  Bar open from 4 to 9 …\n  \n  \n 
URL:https://italianamericanvero.com/event/bar-bingo/2026-09-17/
LOCATION:Italian American Civic Association\, 1600 25th St.\, Vero Beach\, FL\, 32966
CATEGORIES:General Events
ATTACH;FMTTYPE=image/jpeg:https://italianamericanvero.com/wp-content/uploads/2023/12/Bar-Bingo.jpg
END:VEVENT
BEGIN:VEVENT
DTSTART;TZID=America/New_York:20260924T180000
DTEND;TZID=America/New_York:20260924T200000
DTSTAMP:20260423T111848
CREATED:20251111T133044Z
LAST-MODIFIED:20260417T123924Z
UID:10004695-1790272800-1790280000@italianamericanvero.com
SUMMARY:Bar Bingo
DESCRIPTION:Bar Bingo from 6 to 8 pm around Mario’s Bar.  Come join the fun!\nDinner available.  Bar open from 4 to 9 …\n  \n  \n 
URL:https://italianamericanvero.com/event/bar-bingo/2026-09-24/
LOCATION:Italian American Civic Association\, 1600 25th St.\, Vero Beach\, FL\, 32966
CATEGORIES:General Events
ATTACH;FMTTYPE=image/jpeg:https://italianamericanvero.com/wp-content/uploads/2023/12/Bar-Bingo.jpg
END:VEVENT
BEGIN:VEVENT
DTSTART;TZID=America/New_York:20261001T180000
DTEND;TZID=America/New_York:20261001T200000
DTSTAMP:20260423T111849
CREATED:20251111T133044Z
LAST-MODIFIED:20260417T123924Z
UID:10004696-1790877600-1790884800@italianamericanvero.com
SUMMARY:Bar Bingo
DESCRIPTION:Bar Bingo from 6 to 8 pm around Mario’s Bar.  Come join the fun!\nDinner available.  Bar open from 4 to 9 …\n  \n  \n 
URL:https://italianamericanvero.com/event/bar-bingo/2026-10-01/
LOCATION:Italian American Civic Association\, 1600 25th St.\, Vero Beach\, FL\, 32966
CATEGORIES:General Events
ATTACH;FMTTYPE=image/jpeg:https://italianamericanvero.com/wp-content/uploads/2023/12/Bar-Bingo.jpg
END:VEVENT
BEGIN:VEVENT
DTSTART;TZID=America/New_York:20261008T180000
DTEND;TZID=America/New_York:20261008T200000
DTSTAMP:20260423T111849
CREATED:20251111T133044Z
LAST-MODIFIED:20260417T123924Z
UID:10004697-1791482400-1791489600@italianamericanvero.com
SUMMARY:Bar Bingo
DESCRIPTION:Bar Bingo from 6 to 8 pm around Mario’s Bar.  Come join the fun!\nDinner available.  Bar open from 4 to 9 …\n  \n  \n 
URL:https://italianamericanvero.com/event/bar-bingo/2026-10-08/
LOCATION:Italian American Civic Association\, 1600 25th St.\, Vero Beach\, FL\, 32966
CATEGORIES:General Events
ATTACH;FMTTYPE=image/jpeg:https://italianamericanvero.com/wp-content/uploads/2023/12/Bar-Bingo.jpg
END:VEVENT
BEGIN:VEVENT
DTSTART;TZID=America/New_York:20261015T180000
DTEND;TZID=America/New_York:20261015T200000
DTSTAMP:20260423T111849
CREATED:20251111T133044Z
LAST-MODIFIED:20260417T123924Z
UID:10004698-1792087200-1792094400@italianamericanvero.com
SUMMARY:Bar Bingo
DESCRIPTION:Bar Bingo from 6 to 8 pm around Mario’s Bar.  Come join the fun!\nDinner available.  Bar open from 4 to 9 …\n  \n  \n 
URL:https://italianamericanvero.com/event/bar-bingo/2026-10-15/
LOCATION:Italian American Civic Association\, 1600 25th St.\, Vero Beach\, FL\, 32966
CATEGORIES:General Events
ATTACH;FMTTYPE=image/jpeg:https://italianamericanvero.com/wp-content/uploads/2023/12/Bar-Bingo.jpg
END:VEVENT
BEGIN:VEVENT
DTSTART;TZID=America/New_York:20261022T180000
DTEND;TZID=America/New_York:20261022T200000
DTSTAMP:20260423T111849
CREATED:20251111T133044Z
LAST-MODIFIED:20260417T123924Z
UID:10004699-1792692000-1792699200@italianamericanvero.com
SUMMARY:Bar Bingo
DESCRIPTION:Bar Bingo from 6 to 8 pm around Mario’s Bar.  Come join the fun!\nDinner available.  Bar open from 4 to 9 …\n  \n  \n 
URL:https://italianamericanvero.com/event/bar-bingo/2026-10-22/
LOCATION:Italian American Civic Association\, 1600 25th St.\, Vero Beach\, FL\, 32966
CATEGORIES:General Events
ATTACH;FMTTYPE=image/jpeg:https://italianamericanvero.com/wp-content/uploads/2023/12/Bar-Bingo.jpg
END:VEVENT
BEGIN:VEVENT
DTSTART;TZID=America/New_York:20261029T180000
DTEND;TZID=America/New_York:20261029T200000
DTSTAMP:20260423T111849
CREATED:20251111T133044Z
LAST-MODIFIED:20260417T123924Z
UID:10004700-1793296800-1793304000@italianamericanvero.com
SUMMARY:Bar Bingo
DESCRIPTION:Bar Bingo from 6 to 8 pm around Mario’s Bar.  Come join the fun!\nDinner available.  Bar open from 4 to 9 …\n  \n  \n 
URL:https://italianamericanvero.com/event/bar-bingo/2026-10-29/
LOCATION:Italian American Civic Association\, 1600 25th St.\, Vero Beach\, FL\, 32966
CATEGORIES:General Events
ATTACH;FMTTYPE=image/jpeg:https://italianamericanvero.com/wp-content/uploads/2023/12/Bar-Bingo.jpg
END:VEVENT
BEGIN:VEVENT
DTSTART;TZID=America/New_York:20261105T180000
DTEND;TZID=America/New_York:20261105T200000
DTSTAMP:20260423T111849
CREATED:20251111T133044Z
LAST-MODIFIED:20260417T123924Z
UID:10004701-1793901600-1793908800@italianamericanvero.com
SUMMARY:Bar Bingo
DESCRIPTION:Bar Bingo from 6 to 8 pm around Mario’s Bar.  Come join the fun!\nDinner available.  Bar open from 4 to 9 …\n  \n  \n 
URL:https://italianamericanvero.com/event/bar-bingo/2026-11-05/
LOCATION:Italian American Civic Association\, 1600 25th St.\, Vero Beach\, FL\, 32966
CATEGORIES:General Events
ATTACH;FMTTYPE=image/jpeg:https://italianamericanvero.com/wp-content/uploads/2023/12/Bar-Bingo.jpg
END:VEVENT
BEGIN:VEVENT
DTSTART;TZID=America/New_York:20261112T180000
DTEND;TZID=America/New_York:20261112T200000
DTSTAMP:20260423T111849
CREATED:20251111T133044Z
LAST-MODIFIED:20260417T123924Z
UID:10004702-1794506400-1794513600@italianamericanvero.com
SUMMARY:Bar Bingo
DESCRIPTION:Bar Bingo from 6 to 8 pm around Mario’s Bar.  Come join the fun!\nDinner available.  Bar open from 4 to 9 …\n  \n  \n 
URL:https://italianamericanvero.com/event/bar-bingo/2026-11-12/
LOCATION:Italian American Civic Association\, 1600 25th St.\, Vero Beach\, FL\, 32966
CATEGORIES:General Events
ATTACH;FMTTYPE=image/jpeg:https://italianamericanvero.com/wp-content/uploads/2023/12/Bar-Bingo.jpg
END:VEVENT
BEGIN:VEVENT
DTSTART;TZID=America/New_York:20261119T180000
DTEND;TZID=America/New_York:20261119T200000
DTSTAMP:20260423T111849
CREATED:20251111T133044Z
LAST-MODIFIED:20260417T123924Z
UID:10004703-1795111200-1795118400@italianamericanvero.com
SUMMARY:Bar Bingo
DESCRIPTION:Bar Bingo from 6 to 8 pm around Mario’s Bar.  Come join the fun!\nDinner available.  Bar open from 4 to 9 …\n  \n  \n 
URL:https://italianamericanvero.com/event/bar-bingo/2026-11-19/
LOCATION:Italian American Civic Association\, 1600 25th St.\, Vero Beach\, FL\, 32966
CATEGORIES:General Events
ATTACH;FMTTYPE=image/jpeg:https://italianamericanvero.com/wp-content/uploads/2023/12/Bar-Bingo.jpg
END:VEVENT
END:VCALENDAR