BEGIN:VCALENDAR
VERSION:2.0
PRODID:-//Vero Beach Italian American Civic Association - ECPv6.15.16.1//NONSGML v1.0//EN
CALSCALE:GREGORIAN
METHOD:PUBLISH
X-WR-CALNAME:Vero Beach Italian American Civic Association
X-ORIGINAL-URL:https://italianamericanvero.com
X-WR-CALDESC:Events for Vero Beach Italian American Civic Association
REFRESH-INTERVAL;VALUE=DURATION:PT1H
X-Robots-Tag:noindex
X-PUBLISHED-TTL:PT1H
BEGIN:VTIMEZONE
TZID:America/New_York
BEGIN:DAYLIGHT
TZOFFSETFROM:-0500
TZOFFSETTO:-0400
TZNAME:EDT
DTSTART:20250309T070000
END:DAYLIGHT
BEGIN:STANDARD
TZOFFSETFROM:-0400
TZOFFSETTO:-0500
TZNAME:EST
DTSTART:20251102T060000
END:STANDARD
BEGIN:DAYLIGHT
TZOFFSETFROM:-0500
TZOFFSETTO:-0400
TZNAME:EDT
DTSTART:20260308T070000
END:DAYLIGHT
BEGIN:STANDARD
TZOFFSETFROM:-0400
TZOFFSETTO:-0500
TZNAME:EST
DTSTART:20261101T060000
END:STANDARD
BEGIN:DAYLIGHT
TZOFFSETFROM:-0500
TZOFFSETTO:-0400
TZNAME:EDT
DTSTART:20270314T070000
END:DAYLIGHT
BEGIN:STANDARD
TZOFFSETFROM:-0400
TZOFFSETTO:-0500
TZNAME:EST
DTSTART:20271107T060000
END:STANDARD
END:VTIMEZONE
BEGIN:VEVENT
DTSTART;TZID=America/New_York:20260424T180000
DTEND;TZID=America/New_York:20260424T210000
DTSTAMP:20260423T111849
CREATED:20250930T100459Z
LAST-MODIFIED:20260417T123718Z
UID:10004452-1777053600-1777064400@italianamericanvero.com
SUMMARY:Friday Karaoke!
DESCRIPTION:Enjoy pizza and stromboli by our real Italian chefs. And this week\, an extra twist … KARAOKE! \nBring your appetite\, your friends\, and your best singing voice as we enjoy great food\, great company\, and some unforgettable performances. Whether you’re belting out classics or cheering others on\, it’s going to be a night full of fun and community spirit. 🎶 📅 \nWe can’t wait to see you … Get there early! \nBar opens at 4 pm.  Pizza at 5. Karaoke at 6.
URL:https://italianamericanvero.com/event/friday-karaoke/2026-04-24/
LOCATION:Italian American Civic Association\, 1600 25th St.\, Vero Beach\, FL\, 32966
ATTACH;FMTTYPE=image/jpeg:https://italianamericanvero.com/wp-content/uploads/2025/04/Karaoke-1.jpg
END:VEVENT
BEGIN:VEVENT
DTSTART;TZID=America/New_York:20260508T180000
DTEND;TZID=America/New_York:20260508T210000
DTSTAMP:20260423T111849
CREATED:20250930T100459Z
LAST-MODIFIED:20260417T123718Z
UID:10004454-1778263200-1778274000@italianamericanvero.com
SUMMARY:Friday Karaoke!
DESCRIPTION:Enjoy pizza and stromboli by our real Italian chefs. And this week\, an extra twist … KARAOKE! \nBring your appetite\, your friends\, and your best singing voice as we enjoy great food\, great company\, and some unforgettable performances. Whether you’re belting out classics or cheering others on\, it’s going to be a night full of fun and community spirit. 🎶 📅 \nWe can’t wait to see you … Get there early! \nBar opens at 4 pm.  Pizza at 5. Karaoke at 6.
URL:https://italianamericanvero.com/event/friday-karaoke/2026-05-08/
LOCATION:Italian American Civic Association\, 1600 25th St.\, Vero Beach\, FL\, 32966
ATTACH;FMTTYPE=image/jpeg:https://italianamericanvero.com/wp-content/uploads/2025/04/Karaoke-1.jpg
END:VEVENT
BEGIN:VEVENT
DTSTART;TZID=America/New_York:20260515T180000
DTEND;TZID=America/New_York:20260515T210000
DTSTAMP:20260423T111849
CREATED:20250930T100459Z
LAST-MODIFIED:20260417T123718Z
UID:10004455-1778868000-1778878800@italianamericanvero.com
SUMMARY:Friday Karaoke!
DESCRIPTION:Enjoy pizza and stromboli by our real Italian chefs. And this week\, an extra twist … KARAOKE! \nBring your appetite\, your friends\, and your best singing voice as we enjoy great food\, great company\, and some unforgettable performances. Whether you’re belting out classics or cheering others on\, it’s going to be a night full of fun and community spirit. 🎶 📅 \nWe can’t wait to see you … Get there early! \nBar opens at 4 pm.  Pizza at 5. Karaoke at 6.
URL:https://italianamericanvero.com/event/friday-karaoke/2026-05-15/
LOCATION:Italian American Civic Association\, 1600 25th St.\, Vero Beach\, FL\, 32966
ATTACH;FMTTYPE=image/jpeg:https://italianamericanvero.com/wp-content/uploads/2025/04/Karaoke-1.jpg
END:VEVENT
BEGIN:VEVENT
DTSTART;TZID=America/New_York:20260522T180000
DTEND;TZID=America/New_York:20260522T210000
DTSTAMP:20260423T111849
CREATED:20250930T100459Z
LAST-MODIFIED:20260417T123718Z
UID:10004456-1779472800-1779483600@italianamericanvero.com
SUMMARY:Friday Karaoke!
DESCRIPTION:Enjoy pizza and stromboli by our real Italian chefs. And this week\, an extra twist … KARAOKE! \nBring your appetite\, your friends\, and your best singing voice as we enjoy great food\, great company\, and some unforgettable performances. Whether you’re belting out classics or cheering others on\, it’s going to be a night full of fun and community spirit. 🎶 📅 \nWe can’t wait to see you … Get there early! \nBar opens at 4 pm.  Pizza at 5. Karaoke at 6.
URL:https://italianamericanvero.com/event/friday-karaoke/2026-05-22/
LOCATION:Italian American Civic Association\, 1600 25th St.\, Vero Beach\, FL\, 32966
ATTACH;FMTTYPE=image/jpeg:https://italianamericanvero.com/wp-content/uploads/2025/04/Karaoke-1.jpg
END:VEVENT
BEGIN:VEVENT
DTSTART;TZID=America/New_York:20260529T180000
DTEND;TZID=America/New_York:20260529T210000
DTSTAMP:20260423T111849
CREATED:20250930T100459Z
LAST-MODIFIED:20260417T123718Z
UID:10004457-1780077600-1780088400@italianamericanvero.com
SUMMARY:Friday Karaoke!
DESCRIPTION:Enjoy pizza and stromboli by our real Italian chefs. And this week\, an extra twist … KARAOKE! \nBring your appetite\, your friends\, and your best singing voice as we enjoy great food\, great company\, and some unforgettable performances. Whether you’re belting out classics or cheering others on\, it’s going to be a night full of fun and community spirit. 🎶 📅 \nWe can’t wait to see you … Get there early! \nBar opens at 4 pm.  Pizza at 5. Karaoke at 6.
URL:https://italianamericanvero.com/event/friday-karaoke/2026-05-29/
LOCATION:Italian American Civic Association\, 1600 25th St.\, Vero Beach\, FL\, 32966
ATTACH;FMTTYPE=image/jpeg:https://italianamericanvero.com/wp-content/uploads/2025/04/Karaoke-1.jpg
END:VEVENT
BEGIN:VEVENT
DTSTART;TZID=America/New_York:20260605T180000
DTEND;TZID=America/New_York:20260605T210000
DTSTAMP:20260423T111849
CREATED:20250930T100459Z
LAST-MODIFIED:20260417T123718Z
UID:10004458-1780682400-1780693200@italianamericanvero.com
SUMMARY:Friday Karaoke!
DESCRIPTION:Enjoy pizza and stromboli by our real Italian chefs. And this week\, an extra twist … KARAOKE! \nBring your appetite\, your friends\, and your best singing voice as we enjoy great food\, great company\, and some unforgettable performances. Whether you’re belting out classics or cheering others on\, it’s going to be a night full of fun and community spirit. 🎶 📅 \nWe can’t wait to see you … Get there early! \nBar opens at 4 pm.  Pizza at 5. Karaoke at 6.
URL:https://italianamericanvero.com/event/friday-karaoke/2026-06-05/
LOCATION:Italian American Civic Association\, 1600 25th St.\, Vero Beach\, FL\, 32966
ATTACH;FMTTYPE=image/jpeg:https://italianamericanvero.com/wp-content/uploads/2025/04/Karaoke-1.jpg
END:VEVENT
BEGIN:VEVENT
DTSTART;TZID=America/New_York:20260612T180000
DTEND;TZID=America/New_York:20260612T210000
DTSTAMP:20260423T111849
CREATED:20250930T100459Z
LAST-MODIFIED:20260417T123718Z
UID:10004459-1781287200-1781298000@italianamericanvero.com
SUMMARY:Friday Karaoke!
DESCRIPTION:Enjoy pizza and stromboli by our real Italian chefs. And this week\, an extra twist … KARAOKE! \nBring your appetite\, your friends\, and your best singing voice as we enjoy great food\, great company\, and some unforgettable performances. Whether you’re belting out classics or cheering others on\, it’s going to be a night full of fun and community spirit. 🎶 📅 \nWe can’t wait to see you … Get there early! \nBar opens at 4 pm.  Pizza at 5. Karaoke at 6.
URL:https://italianamericanvero.com/event/friday-karaoke/2026-06-12/
LOCATION:Italian American Civic Association\, 1600 25th St.\, Vero Beach\, FL\, 32966
ATTACH;FMTTYPE=image/jpeg:https://italianamericanvero.com/wp-content/uploads/2025/04/Karaoke-1.jpg
END:VEVENT
BEGIN:VEVENT
DTSTART;TZID=America/New_York:20260619T180000
DTEND;TZID=America/New_York:20260619T210000
DTSTAMP:20260423T111849
CREATED:20250930T100459Z
LAST-MODIFIED:20260417T123718Z
UID:10004460-1781892000-1781902800@italianamericanvero.com
SUMMARY:Friday Karaoke!
DESCRIPTION:Enjoy pizza and stromboli by our real Italian chefs. And this week\, an extra twist … KARAOKE! \nBring your appetite\, your friends\, and your best singing voice as we enjoy great food\, great company\, and some unforgettable performances. Whether you’re belting out classics or cheering others on\, it’s going to be a night full of fun and community spirit. 🎶 📅 \nWe can’t wait to see you … Get there early! \nBar opens at 4 pm.  Pizza at 5. Karaoke at 6.
URL:https://italianamericanvero.com/event/friday-karaoke/2026-06-19/
LOCATION:Italian American Civic Association\, 1600 25th St.\, Vero Beach\, FL\, 32966
ATTACH;FMTTYPE=image/jpeg:https://italianamericanvero.com/wp-content/uploads/2025/04/Karaoke-1.jpg
END:VEVENT
BEGIN:VEVENT
DTSTART;TZID=America/New_York:20260626T180000
DTEND;TZID=America/New_York:20260626T210000
DTSTAMP:20260423T111849
CREATED:20250930T100459Z
LAST-MODIFIED:20260417T123718Z
UID:10004461-1782496800-1782507600@italianamericanvero.com
SUMMARY:Friday Karaoke!
DESCRIPTION:Enjoy pizza and stromboli by our real Italian chefs. And this week\, an extra twist … KARAOKE! \nBring your appetite\, your friends\, and your best singing voice as we enjoy great food\, great company\, and some unforgettable performances. Whether you’re belting out classics or cheering others on\, it’s going to be a night full of fun and community spirit. 🎶 📅 \nWe can’t wait to see you … Get there early! \nBar opens at 4 pm.  Pizza at 5. Karaoke at 6.
URL:https://italianamericanvero.com/event/friday-karaoke/2026-06-26/
LOCATION:Italian American Civic Association\, 1600 25th St.\, Vero Beach\, FL\, 32966
ATTACH;FMTTYPE=image/jpeg:https://italianamericanvero.com/wp-content/uploads/2025/04/Karaoke-1.jpg
END:VEVENT
BEGIN:VEVENT
DTSTART;TZID=America/New_York:20260703T180000
DTEND;TZID=America/New_York:20260703T210000
DTSTAMP:20260423T111849
CREATED:20250930T100459Z
LAST-MODIFIED:20260417T123718Z
UID:10004462-1783101600-1783112400@italianamericanvero.com
SUMMARY:Friday Karaoke!
DESCRIPTION:Enjoy pizza and stromboli by our real Italian chefs. And this week\, an extra twist … KARAOKE! \nBring your appetite\, your friends\, and your best singing voice as we enjoy great food\, great company\, and some unforgettable performances. Whether you’re belting out classics or cheering others on\, it’s going to be a night full of fun and community spirit. 🎶 📅 \nWe can’t wait to see you … Get there early! \nBar opens at 4 pm.  Pizza at 5. Karaoke at 6.
URL:https://italianamericanvero.com/event/friday-karaoke/2026-07-03/
LOCATION:Italian American Civic Association\, 1600 25th St.\, Vero Beach\, FL\, 32966
ATTACH;FMTTYPE=image/jpeg:https://italianamericanvero.com/wp-content/uploads/2025/04/Karaoke-1.jpg
END:VEVENT
BEGIN:VEVENT
DTSTART;TZID=America/New_York:20260710T180000
DTEND;TZID=America/New_York:20260710T210000
DTSTAMP:20260423T111849
CREATED:20250930T100459Z
LAST-MODIFIED:20260417T123718Z
UID:10004463-1783706400-1783717200@italianamericanvero.com
SUMMARY:Friday Karaoke!
DESCRIPTION:Enjoy pizza and stromboli by our real Italian chefs. And this week\, an extra twist … KARAOKE! \nBring your appetite\, your friends\, and your best singing voice as we enjoy great food\, great company\, and some unforgettable performances. Whether you’re belting out classics or cheering others on\, it’s going to be a night full of fun and community spirit. 🎶 📅 \nWe can’t wait to see you … Get there early! \nBar opens at 4 pm.  Pizza at 5. Karaoke at 6.
URL:https://italianamericanvero.com/event/friday-karaoke/2026-07-10/
LOCATION:Italian American Civic Association\, 1600 25th St.\, Vero Beach\, FL\, 32966
ATTACH;FMTTYPE=image/jpeg:https://italianamericanvero.com/wp-content/uploads/2025/04/Karaoke-1.jpg
END:VEVENT
BEGIN:VEVENT
DTSTART;TZID=America/New_York:20260717T180000
DTEND;TZID=America/New_York:20260717T210000
DTSTAMP:20260423T111849
CREATED:20250930T100459Z
LAST-MODIFIED:20260417T123718Z
UID:10004464-1784311200-1784322000@italianamericanvero.com
SUMMARY:Friday Karaoke!
DESCRIPTION:Enjoy pizza and stromboli by our real Italian chefs. And this week\, an extra twist … KARAOKE! \nBring your appetite\, your friends\, and your best singing voice as we enjoy great food\, great company\, and some unforgettable performances. Whether you’re belting out classics or cheering others on\, it’s going to be a night full of fun and community spirit. 🎶 📅 \nWe can’t wait to see you … Get there early! \nBar opens at 4 pm.  Pizza at 5. Karaoke at 6.
URL:https://italianamericanvero.com/event/friday-karaoke/2026-07-17/
LOCATION:Italian American Civic Association\, 1600 25th St.\, Vero Beach\, FL\, 32966
ATTACH;FMTTYPE=image/jpeg:https://italianamericanvero.com/wp-content/uploads/2025/04/Karaoke-1.jpg
END:VEVENT
BEGIN:VEVENT
DTSTART;TZID=America/New_York:20260724T180000
DTEND;TZID=America/New_York:20260724T210000
DTSTAMP:20260423T111849
CREATED:20250930T100459Z
LAST-MODIFIED:20260417T123718Z
UID:10004465-1784916000-1784926800@italianamericanvero.com
SUMMARY:Friday Karaoke!
DESCRIPTION:Enjoy pizza and stromboli by our real Italian chefs. And this week\, an extra twist … KARAOKE! \nBring your appetite\, your friends\, and your best singing voice as we enjoy great food\, great company\, and some unforgettable performances. Whether you’re belting out classics or cheering others on\, it’s going to be a night full of fun and community spirit. 🎶 📅 \nWe can’t wait to see you … Get there early! \nBar opens at 4 pm.  Pizza at 5. Karaoke at 6.
URL:https://italianamericanvero.com/event/friday-karaoke/2026-07-24/
LOCATION:Italian American Civic Association\, 1600 25th St.\, Vero Beach\, FL\, 32966
ATTACH;FMTTYPE=image/jpeg:https://italianamericanvero.com/wp-content/uploads/2025/04/Karaoke-1.jpg
END:VEVENT
BEGIN:VEVENT
DTSTART;TZID=America/New_York:20260731T180000
DTEND;TZID=America/New_York:20260731T210000
DTSTAMP:20260423T111849
CREATED:20250930T100459Z
LAST-MODIFIED:20260417T123718Z
UID:10004466-1785520800-1785531600@italianamericanvero.com
SUMMARY:Friday Karaoke!
DESCRIPTION:Enjoy pizza and stromboli by our real Italian chefs. And this week\, an extra twist … KARAOKE! \nBring your appetite\, your friends\, and your best singing voice as we enjoy great food\, great company\, and some unforgettable performances. Whether you’re belting out classics or cheering others on\, it’s going to be a night full of fun and community spirit. 🎶 📅 \nWe can’t wait to see you … Get there early! \nBar opens at 4 pm.  Pizza at 5. Karaoke at 6.
URL:https://italianamericanvero.com/event/friday-karaoke/2026-07-31/
LOCATION:Italian American Civic Association\, 1600 25th St.\, Vero Beach\, FL\, 32966
ATTACH;FMTTYPE=image/jpeg:https://italianamericanvero.com/wp-content/uploads/2025/04/Karaoke-1.jpg
END:VEVENT
BEGIN:VEVENT
DTSTART;TZID=America/New_York:20260807T180000
DTEND;TZID=America/New_York:20260807T210000
DTSTAMP:20260423T111849
CREATED:20250930T100459Z
LAST-MODIFIED:20260417T123718Z
UID:10004467-1786125600-1786136400@italianamericanvero.com
SUMMARY:Friday Karaoke!
DESCRIPTION:Enjoy pizza and stromboli by our real Italian chefs. And this week\, an extra twist … KARAOKE! \nBring your appetite\, your friends\, and your best singing voice as we enjoy great food\, great company\, and some unforgettable performances. Whether you’re belting out classics or cheering others on\, it’s going to be a night full of fun and community spirit. 🎶 📅 \nWe can’t wait to see you … Get there early! \nBar opens at 4 pm.  Pizza at 5. Karaoke at 6.
URL:https://italianamericanvero.com/event/friday-karaoke/2026-08-07/
LOCATION:Italian American Civic Association\, 1600 25th St.\, Vero Beach\, FL\, 32966
ATTACH;FMTTYPE=image/jpeg:https://italianamericanvero.com/wp-content/uploads/2025/04/Karaoke-1.jpg
END:VEVENT
BEGIN:VEVENT
DTSTART;TZID=America/New_York:20260814T180000
DTEND;TZID=America/New_York:20260814T210000
DTSTAMP:20260423T111849
CREATED:20250930T100459Z
LAST-MODIFIED:20260417T123718Z
UID:10004468-1786730400-1786741200@italianamericanvero.com
SUMMARY:Friday Karaoke!
DESCRIPTION:Enjoy pizza and stromboli by our real Italian chefs. And this week\, an extra twist … KARAOKE! \nBring your appetite\, your friends\, and your best singing voice as we enjoy great food\, great company\, and some unforgettable performances. Whether you’re belting out classics or cheering others on\, it’s going to be a night full of fun and community spirit. 🎶 📅 \nWe can’t wait to see you … Get there early! \nBar opens at 4 pm.  Pizza at 5. Karaoke at 6.
URL:https://italianamericanvero.com/event/friday-karaoke/2026-08-14/
LOCATION:Italian American Civic Association\, 1600 25th St.\, Vero Beach\, FL\, 32966
ATTACH;FMTTYPE=image/jpeg:https://italianamericanvero.com/wp-content/uploads/2025/04/Karaoke-1.jpg
END:VEVENT
BEGIN:VEVENT
DTSTART;TZID=America/New_York:20260821T180000
DTEND;TZID=America/New_York:20260821T210000
DTSTAMP:20260423T111849
CREATED:20250930T100459Z
LAST-MODIFIED:20260417T123718Z
UID:10004469-1787335200-1787346000@italianamericanvero.com
SUMMARY:Friday Karaoke!
DESCRIPTION:Enjoy pizza and stromboli by our real Italian chefs. And this week\, an extra twist … KARAOKE! \nBring your appetite\, your friends\, and your best singing voice as we enjoy great food\, great company\, and some unforgettable performances. Whether you’re belting out classics or cheering others on\, it’s going to be a night full of fun and community spirit. 🎶 📅 \nWe can’t wait to see you … Get there early! \nBar opens at 4 pm.  Pizza at 5. Karaoke at 6.
URL:https://italianamericanvero.com/event/friday-karaoke/2026-08-21/
LOCATION:Italian American Civic Association\, 1600 25th St.\, Vero Beach\, FL\, 32966
ATTACH;FMTTYPE=image/jpeg:https://italianamericanvero.com/wp-content/uploads/2025/04/Karaoke-1.jpg
END:VEVENT
BEGIN:VEVENT
DTSTART;TZID=America/New_York:20260828T180000
DTEND;TZID=America/New_York:20260828T210000
DTSTAMP:20260423T111849
CREATED:20250930T100459Z
LAST-MODIFIED:20260417T123718Z
UID:10004470-1787940000-1787950800@italianamericanvero.com
SUMMARY:Friday Karaoke!
DESCRIPTION:Enjoy pizza and stromboli by our real Italian chefs. And this week\, an extra twist … KARAOKE! \nBring your appetite\, your friends\, and your best singing voice as we enjoy great food\, great company\, and some unforgettable performances. Whether you’re belting out classics or cheering others on\, it’s going to be a night full of fun and community spirit. 🎶 📅 \nWe can’t wait to see you … Get there early! \nBar opens at 4 pm.  Pizza at 5. Karaoke at 6.
URL:https://italianamericanvero.com/event/friday-karaoke/2026-08-28/
LOCATION:Italian American Civic Association\, 1600 25th St.\, Vero Beach\, FL\, 32966
ATTACH;FMTTYPE=image/jpeg:https://italianamericanvero.com/wp-content/uploads/2025/04/Karaoke-1.jpg
END:VEVENT
BEGIN:VEVENT
DTSTART;TZID=America/New_York:20260904T180000
DTEND;TZID=America/New_York:20260904T210000
DTSTAMP:20260423T111849
CREATED:20250930T100459Z
LAST-MODIFIED:20260417T123718Z
UID:10004471-1788544800-1788555600@italianamericanvero.com
SUMMARY:Friday Karaoke!
DESCRIPTION:Enjoy pizza and stromboli by our real Italian chefs. And this week\, an extra twist … KARAOKE! \nBring your appetite\, your friends\, and your best singing voice as we enjoy great food\, great company\, and some unforgettable performances. Whether you’re belting out classics or cheering others on\, it’s going to be a night full of fun and community spirit. 🎶 📅 \nWe can’t wait to see you … Get there early! \nBar opens at 4 pm.  Pizza at 5. Karaoke at 6.
URL:https://italianamericanvero.com/event/friday-karaoke/2026-09-04/
LOCATION:Italian American Civic Association\, 1600 25th St.\, Vero Beach\, FL\, 32966
ATTACH;FMTTYPE=image/jpeg:https://italianamericanvero.com/wp-content/uploads/2025/04/Karaoke-1.jpg
END:VEVENT
BEGIN:VEVENT
DTSTART;TZID=America/New_York:20260911T180000
DTEND;TZID=America/New_York:20260911T210000
DTSTAMP:20260423T111849
CREATED:20250930T100459Z
LAST-MODIFIED:20260417T123718Z
UID:10004472-1789149600-1789160400@italianamericanvero.com
SUMMARY:Friday Karaoke!
DESCRIPTION:Enjoy pizza and stromboli by our real Italian chefs. And this week\, an extra twist … KARAOKE! \nBring your appetite\, your friends\, and your best singing voice as we enjoy great food\, great company\, and some unforgettable performances. Whether you’re belting out classics or cheering others on\, it’s going to be a night full of fun and community spirit. 🎶 📅 \nWe can’t wait to see you … Get there early! \nBar opens at 4 pm.  Pizza at 5. Karaoke at 6.
URL:https://italianamericanvero.com/event/friday-karaoke/2026-09-11/
LOCATION:Italian American Civic Association\, 1600 25th St.\, Vero Beach\, FL\, 32966
ATTACH;FMTTYPE=image/jpeg:https://italianamericanvero.com/wp-content/uploads/2025/04/Karaoke-1.jpg
END:VEVENT
BEGIN:VEVENT
DTSTART;TZID=America/New_York:20260918T180000
DTEND;TZID=America/New_York:20260918T210000
DTSTAMP:20260423T111849
CREATED:20250930T100459Z
LAST-MODIFIED:20260417T123718Z
UID:10004473-1789754400-1789765200@italianamericanvero.com
SUMMARY:Friday Karaoke!
DESCRIPTION:Enjoy pizza and stromboli by our real Italian chefs. And this week\, an extra twist … KARAOKE! \nBring your appetite\, your friends\, and your best singing voice as we enjoy great food\, great company\, and some unforgettable performances. Whether you’re belting out classics or cheering others on\, it’s going to be a night full of fun and community spirit. 🎶 📅 \nWe can’t wait to see you … Get there early! \nBar opens at 4 pm.  Pizza at 5. Karaoke at 6.
URL:https://italianamericanvero.com/event/friday-karaoke/2026-09-18/
LOCATION:Italian American Civic Association\, 1600 25th St.\, Vero Beach\, FL\, 32966
ATTACH;FMTTYPE=image/jpeg:https://italianamericanvero.com/wp-content/uploads/2025/04/Karaoke-1.jpg
END:VEVENT
BEGIN:VEVENT
DTSTART;TZID=America/New_York:20260925T180000
DTEND;TZID=America/New_York:20260925T210000
DTSTAMP:20260423T111849
CREATED:20250930T100459Z
LAST-MODIFIED:20260417T123718Z
UID:10004474-1790359200-1790370000@italianamericanvero.com
SUMMARY:Friday Karaoke!
DESCRIPTION:Enjoy pizza and stromboli by our real Italian chefs. And this week\, an extra twist … KARAOKE! \nBring your appetite\, your friends\, and your best singing voice as we enjoy great food\, great company\, and some unforgettable performances. Whether you’re belting out classics or cheering others on\, it’s going to be a night full of fun and community spirit. 🎶 📅 \nWe can’t wait to see you … Get there early! \nBar opens at 4 pm.  Pizza at 5. Karaoke at 6.
URL:https://italianamericanvero.com/event/friday-karaoke/2026-09-25/
LOCATION:Italian American Civic Association\, 1600 25th St.\, Vero Beach\, FL\, 32966
ATTACH;FMTTYPE=image/jpeg:https://italianamericanvero.com/wp-content/uploads/2025/04/Karaoke-1.jpg
END:VEVENT
BEGIN:VEVENT
DTSTART;TZID=America/New_York:20261002T180000
DTEND;TZID=America/New_York:20261002T210000
DTSTAMP:20260423T111849
CREATED:20250930T100459Z
LAST-MODIFIED:20260417T123718Z
UID:10004475-1790964000-1790974800@italianamericanvero.com
SUMMARY:Friday Karaoke!
DESCRIPTION:Enjoy pizza and stromboli by our real Italian chefs. And this week\, an extra twist … KARAOKE! \nBring your appetite\, your friends\, and your best singing voice as we enjoy great food\, great company\, and some unforgettable performances. Whether you’re belting out classics or cheering others on\, it’s going to be a night full of fun and community spirit. 🎶 📅 \nWe can’t wait to see you … Get there early! \nBar opens at 4 pm.  Pizza at 5. Karaoke at 6.
URL:https://italianamericanvero.com/event/friday-karaoke/2026-10-02/
LOCATION:Italian American Civic Association\, 1600 25th St.\, Vero Beach\, FL\, 32966
ATTACH;FMTTYPE=image/jpeg:https://italianamericanvero.com/wp-content/uploads/2025/04/Karaoke-1.jpg
END:VEVENT
BEGIN:VEVENT
DTSTART;TZID=America/New_York:20261009T180000
DTEND;TZID=America/New_York:20261009T210000
DTSTAMP:20260423T111849
CREATED:20250930T100459Z
LAST-MODIFIED:20260417T123718Z
UID:10004476-1791568800-1791579600@italianamericanvero.com
SUMMARY:Friday Karaoke!
DESCRIPTION:Enjoy pizza and stromboli by our real Italian chefs. And this week\, an extra twist … KARAOKE! \nBring your appetite\, your friends\, and your best singing voice as we enjoy great food\, great company\, and some unforgettable performances. Whether you’re belting out classics or cheering others on\, it’s going to be a night full of fun and community spirit. 🎶 📅 \nWe can’t wait to see you … Get there early! \nBar opens at 4 pm.  Pizza at 5. Karaoke at 6.
URL:https://italianamericanvero.com/event/friday-karaoke/2026-10-09/
LOCATION:Italian American Civic Association\, 1600 25th St.\, Vero Beach\, FL\, 32966
ATTACH;FMTTYPE=image/jpeg:https://italianamericanvero.com/wp-content/uploads/2025/04/Karaoke-1.jpg
END:VEVENT
BEGIN:VEVENT
DTSTART;TZID=America/New_York:20261016T180000
DTEND;TZID=America/New_York:20261016T210000
DTSTAMP:20260423T111849
CREATED:20250930T100459Z
LAST-MODIFIED:20260417T123718Z
UID:10004477-1792173600-1792184400@italianamericanvero.com
SUMMARY:Friday Karaoke!
DESCRIPTION:Enjoy pizza and stromboli by our real Italian chefs. And this week\, an extra twist … KARAOKE! \nBring your appetite\, your friends\, and your best singing voice as we enjoy great food\, great company\, and some unforgettable performances. Whether you’re belting out classics or cheering others on\, it’s going to be a night full of fun and community spirit. 🎶 📅 \nWe can’t wait to see you … Get there early! \nBar opens at 4 pm.  Pizza at 5. Karaoke at 6.
URL:https://italianamericanvero.com/event/friday-karaoke/2026-10-16/
LOCATION:Italian American Civic Association\, 1600 25th St.\, Vero Beach\, FL\, 32966
ATTACH;FMTTYPE=image/jpeg:https://italianamericanvero.com/wp-content/uploads/2025/04/Karaoke-1.jpg
END:VEVENT
BEGIN:VEVENT
DTSTART;TZID=America/New_York:20261023T180000
DTEND;TZID=America/New_York:20261023T210000
DTSTAMP:20260423T111849
CREATED:20250930T100459Z
LAST-MODIFIED:20260417T123718Z
UID:10004478-1792778400-1792789200@italianamericanvero.com
SUMMARY:Friday Karaoke!
DESCRIPTION:Enjoy pizza and stromboli by our real Italian chefs. And this week\, an extra twist … KARAOKE! \nBring your appetite\, your friends\, and your best singing voice as we enjoy great food\, great company\, and some unforgettable performances. Whether you’re belting out classics or cheering others on\, it’s going to be a night full of fun and community spirit. 🎶 📅 \nWe can’t wait to see you … Get there early! \nBar opens at 4 pm.  Pizza at 5. Karaoke at 6.
URL:https://italianamericanvero.com/event/friday-karaoke/2026-10-23/
LOCATION:Italian American Civic Association\, 1600 25th St.\, Vero Beach\, FL\, 32966
ATTACH;FMTTYPE=image/jpeg:https://italianamericanvero.com/wp-content/uploads/2025/04/Karaoke-1.jpg
END:VEVENT
END:VCALENDAR