BEGIN:VCALENDAR
VERSION:2.0
PRODID:-//Vero Beach Italian American Civic Association - ECPv6.15.16.1//NONSGML v1.0//EN
CALSCALE:GREGORIAN
METHOD:PUBLISH
X-WR-CALNAME:Vero Beach Italian American Civic Association
X-ORIGINAL-URL:https://italianamericanvero.com
X-WR-CALDESC:Events for Vero Beach Italian American Civic Association
REFRESH-INTERVAL;VALUE=DURATION:PT1H
X-Robots-Tag:noindex
X-PUBLISHED-TTL:PT1H
BEGIN:VTIMEZONE
TZID:America/New_York
BEGIN:DAYLIGHT
TZOFFSETFROM:-0500
TZOFFSETTO:-0400
TZNAME:EDT
DTSTART:20250309T070000
END:DAYLIGHT
BEGIN:STANDARD
TZOFFSETFROM:-0400
TZOFFSETTO:-0500
TZNAME:EST
DTSTART:20251102T060000
END:STANDARD
BEGIN:DAYLIGHT
TZOFFSETFROM:-0500
TZOFFSETTO:-0400
TZNAME:EDT
DTSTART:20260308T070000
END:DAYLIGHT
BEGIN:STANDARD
TZOFFSETFROM:-0400
TZOFFSETTO:-0500
TZNAME:EST
DTSTART:20261101T060000
END:STANDARD
BEGIN:DAYLIGHT
TZOFFSETFROM:-0500
TZOFFSETTO:-0400
TZNAME:EDT
DTSTART:20270314T070000
END:DAYLIGHT
BEGIN:STANDARD
TZOFFSETFROM:-0400
TZOFFSETTO:-0500
TZNAME:EST
DTSTART:20271107T060000
END:STANDARD
END:VTIMEZONE
BEGIN:VEVENT
DTSTART;TZID=America/New_York:20260424T160000
DTEND;TZID=America/New_York:20260424T190000
DTSTAMP:20260423T111847
CREATED:20241123T220717Z
LAST-MODIFIED:20260212T122335Z
UID:10003574-1777046400-1777057200@italianamericanvero.com
SUMMARY:Friday Pizza
DESCRIPTION:Enjoy pizza and stromboli by our real Italian chefs.  Bar opens at 4 pm.\nCheck out our specials each week or make your own!
URL:https://italianamericanvero.com/event/friday-pizza/2026-04-24/
LOCATION:Italian American Civic Association\, 1600 25th St.\, Vero Beach\, FL\, 32966
ATTACH;FMTTYPE=image/jpeg:https://italianamericanvero.com/wp-content/uploads/2023/07/pizza-oven.jpg
END:VEVENT
BEGIN:VEVENT
DTSTART;TZID=America/New_York:20260501T160000
DTEND;TZID=America/New_York:20260501T190000
DTSTAMP:20260423T111847
CREATED:20241123T220717Z
LAST-MODIFIED:20260212T122335Z
UID:10003575-1777651200-1777662000@italianamericanvero.com
SUMMARY:Friday Pizza
DESCRIPTION:Enjoy pizza and stromboli by our real Italian chefs.  Bar opens at 4 pm.\nCheck out our specials each week or make your own!
URL:https://italianamericanvero.com/event/friday-pizza/2026-05-01/
LOCATION:Italian American Civic Association\, 1600 25th St.\, Vero Beach\, FL\, 32966
ATTACH;FMTTYPE=image/jpeg:https://italianamericanvero.com/wp-content/uploads/2023/07/pizza-oven.jpg
END:VEVENT
BEGIN:VEVENT
DTSTART;TZID=America/New_York:20260508T160000
DTEND;TZID=America/New_York:20260508T190000
DTSTAMP:20260423T111847
CREATED:20241123T220717Z
LAST-MODIFIED:20260212T122335Z
UID:10003576-1778256000-1778266800@italianamericanvero.com
SUMMARY:Friday Pizza
DESCRIPTION:Enjoy pizza and stromboli by our real Italian chefs.  Bar opens at 4 pm.\nCheck out our specials each week or make your own!
URL:https://italianamericanvero.com/event/friday-pizza/2026-05-08/
LOCATION:Italian American Civic Association\, 1600 25th St.\, Vero Beach\, FL\, 32966
ATTACH;FMTTYPE=image/jpeg:https://italianamericanvero.com/wp-content/uploads/2023/07/pizza-oven.jpg
END:VEVENT
BEGIN:VEVENT
DTSTART;TZID=America/New_York:20260515T160000
DTEND;TZID=America/New_York:20260515T190000
DTSTAMP:20260423T111847
CREATED:20241123T220717Z
LAST-MODIFIED:20260212T122335Z
UID:10003577-1778860800-1778871600@italianamericanvero.com
SUMMARY:Friday Pizza
DESCRIPTION:Enjoy pizza and stromboli by our real Italian chefs.  Bar opens at 4 pm.\nCheck out our specials each week or make your own!
URL:https://italianamericanvero.com/event/friday-pizza/2026-05-15/
LOCATION:Italian American Civic Association\, 1600 25th St.\, Vero Beach\, FL\, 32966
ATTACH;FMTTYPE=image/jpeg:https://italianamericanvero.com/wp-content/uploads/2023/07/pizza-oven.jpg
END:VEVENT
BEGIN:VEVENT
DTSTART;TZID=America/New_York:20260522T160000
DTEND;TZID=America/New_York:20260522T190000
DTSTAMP:20260423T111847
CREATED:20241123T220717Z
LAST-MODIFIED:20260212T122335Z
UID:10003578-1779465600-1779476400@italianamericanvero.com
SUMMARY:Friday Pizza
DESCRIPTION:Enjoy pizza and stromboli by our real Italian chefs.  Bar opens at 4 pm.\nCheck out our specials each week or make your own!
URL:https://italianamericanvero.com/event/friday-pizza/2026-05-22/
LOCATION:Italian American Civic Association\, 1600 25th St.\, Vero Beach\, FL\, 32966
ATTACH;FMTTYPE=image/jpeg:https://italianamericanvero.com/wp-content/uploads/2023/07/pizza-oven.jpg
END:VEVENT
BEGIN:VEVENT
DTSTART;TZID=America/New_York:20260529T160000
DTEND;TZID=America/New_York:20260529T190000
DTSTAMP:20260423T111847
CREATED:20241123T220717Z
LAST-MODIFIED:20260212T122335Z
UID:10003579-1780070400-1780081200@italianamericanvero.com
SUMMARY:Friday Pizza
DESCRIPTION:Enjoy pizza and stromboli by our real Italian chefs.  Bar opens at 4 pm.\nCheck out our specials each week or make your own!
URL:https://italianamericanvero.com/event/friday-pizza/2026-05-29/
LOCATION:Italian American Civic Association\, 1600 25th St.\, Vero Beach\, FL\, 32966
ATTACH;FMTTYPE=image/jpeg:https://italianamericanvero.com/wp-content/uploads/2023/07/pizza-oven.jpg
END:VEVENT
BEGIN:VEVENT
DTSTART;TZID=America/New_York:20260605T160000
DTEND;TZID=America/New_York:20260605T190000
DTSTAMP:20260423T111847
CREATED:20241123T220717Z
LAST-MODIFIED:20260212T122335Z
UID:10003580-1780675200-1780686000@italianamericanvero.com
SUMMARY:Friday Pizza
DESCRIPTION:Enjoy pizza and stromboli by our real Italian chefs.  Bar opens at 4 pm.\nCheck out our specials each week or make your own!
URL:https://italianamericanvero.com/event/friday-pizza/2026-06-05/
LOCATION:Italian American Civic Association\, 1600 25th St.\, Vero Beach\, FL\, 32966
ATTACH;FMTTYPE=image/jpeg:https://italianamericanvero.com/wp-content/uploads/2023/07/pizza-oven.jpg
END:VEVENT
BEGIN:VEVENT
DTSTART;TZID=America/New_York:20260612T160000
DTEND;TZID=America/New_York:20260612T190000
DTSTAMP:20260423T111847
CREATED:20241123T220717Z
LAST-MODIFIED:20260212T122335Z
UID:10003581-1781280000-1781290800@italianamericanvero.com
SUMMARY:Friday Pizza
DESCRIPTION:Enjoy pizza and stromboli by our real Italian chefs.  Bar opens at 4 pm.\nCheck out our specials each week or make your own!
URL:https://italianamericanvero.com/event/friday-pizza/2026-06-12/
LOCATION:Italian American Civic Association\, 1600 25th St.\, Vero Beach\, FL\, 32966
ATTACH;FMTTYPE=image/jpeg:https://italianamericanvero.com/wp-content/uploads/2023/07/pizza-oven.jpg
END:VEVENT
BEGIN:VEVENT
DTSTART;TZID=America/New_York:20260619T160000
DTEND;TZID=America/New_York:20260619T190000
DTSTAMP:20260423T111847
CREATED:20241123T220717Z
LAST-MODIFIED:20260212T122335Z
UID:10003582-1781884800-1781895600@italianamericanvero.com
SUMMARY:Friday Pizza
DESCRIPTION:Enjoy pizza and stromboli by our real Italian chefs.  Bar opens at 4 pm.\nCheck out our specials each week or make your own!
URL:https://italianamericanvero.com/event/friday-pizza/2026-06-19/
LOCATION:Italian American Civic Association\, 1600 25th St.\, Vero Beach\, FL\, 32966
ATTACH;FMTTYPE=image/jpeg:https://italianamericanvero.com/wp-content/uploads/2023/07/pizza-oven.jpg
END:VEVENT
BEGIN:VEVENT
DTSTART;TZID=America/New_York:20260626T160000
DTEND;TZID=America/New_York:20260626T190000
DTSTAMP:20260423T111847
CREATED:20241123T220717Z
LAST-MODIFIED:20260212T122335Z
UID:10003583-1782489600-1782500400@italianamericanvero.com
SUMMARY:Friday Pizza
DESCRIPTION:Enjoy pizza and stromboli by our real Italian chefs.  Bar opens at 4 pm.\nCheck out our specials each week or make your own!
URL:https://italianamericanvero.com/event/friday-pizza/2026-06-26/
LOCATION:Italian American Civic Association\, 1600 25th St.\, Vero Beach\, FL\, 32966
ATTACH;FMTTYPE=image/jpeg:https://italianamericanvero.com/wp-content/uploads/2023/07/pizza-oven.jpg
END:VEVENT
BEGIN:VEVENT
DTSTART;TZID=America/New_York:20260703T160000
DTEND;TZID=America/New_York:20260703T190000
DTSTAMP:20260423T111847
CREATED:20241123T220717Z
LAST-MODIFIED:20260212T122335Z
UID:10003584-1783094400-1783105200@italianamericanvero.com
SUMMARY:Friday Pizza
DESCRIPTION:Enjoy pizza and stromboli by our real Italian chefs.  Bar opens at 4 pm.\nCheck out our specials each week or make your own!
URL:https://italianamericanvero.com/event/friday-pizza/2026-07-03/
LOCATION:Italian American Civic Association\, 1600 25th St.\, Vero Beach\, FL\, 32966
ATTACH;FMTTYPE=image/jpeg:https://italianamericanvero.com/wp-content/uploads/2023/07/pizza-oven.jpg
END:VEVENT
BEGIN:VEVENT
DTSTART;TZID=America/New_York:20260710T160000
DTEND;TZID=America/New_York:20260710T190000
DTSTAMP:20260423T111847
CREATED:20241123T220717Z
LAST-MODIFIED:20260212T122335Z
UID:10003585-1783699200-1783710000@italianamericanvero.com
SUMMARY:Friday Pizza
DESCRIPTION:Enjoy pizza and stromboli by our real Italian chefs.  Bar opens at 4 pm.\nCheck out our specials each week or make your own!
URL:https://italianamericanvero.com/event/friday-pizza/2026-07-10/
LOCATION:Italian American Civic Association\, 1600 25th St.\, Vero Beach\, FL\, 32966
ATTACH;FMTTYPE=image/jpeg:https://italianamericanvero.com/wp-content/uploads/2023/07/pizza-oven.jpg
END:VEVENT
BEGIN:VEVENT
DTSTART;TZID=America/New_York:20260717T160000
DTEND;TZID=America/New_York:20260717T190000
DTSTAMP:20260423T111847
CREATED:20241123T220717Z
LAST-MODIFIED:20260212T122335Z
UID:10003586-1784304000-1784314800@italianamericanvero.com
SUMMARY:Friday Pizza
DESCRIPTION:Enjoy pizza and stromboli by our real Italian chefs.  Bar opens at 4 pm.\nCheck out our specials each week or make your own!
URL:https://italianamericanvero.com/event/friday-pizza/2026-07-17/
LOCATION:Italian American Civic Association\, 1600 25th St.\, Vero Beach\, FL\, 32966
ATTACH;FMTTYPE=image/jpeg:https://italianamericanvero.com/wp-content/uploads/2023/07/pizza-oven.jpg
END:VEVENT
BEGIN:VEVENT
DTSTART;TZID=America/New_York:20260724T160000
DTEND;TZID=America/New_York:20260724T190000
DTSTAMP:20260423T111847
CREATED:20241123T220717Z
LAST-MODIFIED:20260212T122335Z
UID:10003587-1784908800-1784919600@italianamericanvero.com
SUMMARY:Friday Pizza
DESCRIPTION:Enjoy pizza and stromboli by our real Italian chefs.  Bar opens at 4 pm.\nCheck out our specials each week or make your own!
URL:https://italianamericanvero.com/event/friday-pizza/2026-07-24/
LOCATION:Italian American Civic Association\, 1600 25th St.\, Vero Beach\, FL\, 32966
ATTACH;FMTTYPE=image/jpeg:https://italianamericanvero.com/wp-content/uploads/2023/07/pizza-oven.jpg
END:VEVENT
BEGIN:VEVENT
DTSTART;TZID=America/New_York:20260731T160000
DTEND;TZID=America/New_York:20260731T190000
DTSTAMP:20260423T111847
CREATED:20241123T220717Z
LAST-MODIFIED:20260212T122335Z
UID:10003588-1785513600-1785524400@italianamericanvero.com
SUMMARY:Friday Pizza
DESCRIPTION:Enjoy pizza and stromboli by our real Italian chefs.  Bar opens at 4 pm.\nCheck out our specials each week or make your own!
URL:https://italianamericanvero.com/event/friday-pizza/2026-07-31/
LOCATION:Italian American Civic Association\, 1600 25th St.\, Vero Beach\, FL\, 32966
ATTACH;FMTTYPE=image/jpeg:https://italianamericanvero.com/wp-content/uploads/2023/07/pizza-oven.jpg
END:VEVENT
BEGIN:VEVENT
DTSTART;TZID=America/New_York:20260807T160000
DTEND;TZID=America/New_York:20260807T190000
DTSTAMP:20260423T111847
CREATED:20241123T220717Z
LAST-MODIFIED:20260212T122335Z
UID:10003589-1786118400-1786129200@italianamericanvero.com
SUMMARY:Friday Pizza
DESCRIPTION:Enjoy pizza and stromboli by our real Italian chefs.  Bar opens at 4 pm.\nCheck out our specials each week or make your own!
URL:https://italianamericanvero.com/event/friday-pizza/2026-08-07/
LOCATION:Italian American Civic Association\, 1600 25th St.\, Vero Beach\, FL\, 32966
ATTACH;FMTTYPE=image/jpeg:https://italianamericanvero.com/wp-content/uploads/2023/07/pizza-oven.jpg
END:VEVENT
BEGIN:VEVENT
DTSTART;TZID=America/New_York:20260814T160000
DTEND;TZID=America/New_York:20260814T190000
DTSTAMP:20260423T111847
CREATED:20241123T220717Z
LAST-MODIFIED:20260212T122335Z
UID:10003590-1786723200-1786734000@italianamericanvero.com
SUMMARY:Friday Pizza
DESCRIPTION:Enjoy pizza and stromboli by our real Italian chefs.  Bar opens at 4 pm.\nCheck out our specials each week or make your own!
URL:https://italianamericanvero.com/event/friday-pizza/2026-08-14/
LOCATION:Italian American Civic Association\, 1600 25th St.\, Vero Beach\, FL\, 32966
ATTACH;FMTTYPE=image/jpeg:https://italianamericanvero.com/wp-content/uploads/2023/07/pizza-oven.jpg
END:VEVENT
BEGIN:VEVENT
DTSTART;TZID=America/New_York:20260821T160000
DTEND;TZID=America/New_York:20260821T190000
DTSTAMP:20260423T111847
CREATED:20241123T220717Z
LAST-MODIFIED:20260212T122335Z
UID:10003591-1787328000-1787338800@italianamericanvero.com
SUMMARY:Friday Pizza
DESCRIPTION:Enjoy pizza and stromboli by our real Italian chefs.  Bar opens at 4 pm.\nCheck out our specials each week or make your own!
URL:https://italianamericanvero.com/event/friday-pizza/2026-08-21/
LOCATION:Italian American Civic Association\, 1600 25th St.\, Vero Beach\, FL\, 32966
ATTACH;FMTTYPE=image/jpeg:https://italianamericanvero.com/wp-content/uploads/2023/07/pizza-oven.jpg
END:VEVENT
BEGIN:VEVENT
DTSTART;TZID=America/New_York:20260828T160000
DTEND;TZID=America/New_York:20260828T190000
DTSTAMP:20260423T111847
CREATED:20241123T220717Z
LAST-MODIFIED:20260212T122335Z
UID:10003592-1787932800-1787943600@italianamericanvero.com
SUMMARY:Friday Pizza
DESCRIPTION:Enjoy pizza and stromboli by our real Italian chefs.  Bar opens at 4 pm.\nCheck out our specials each week or make your own!
URL:https://italianamericanvero.com/event/friday-pizza/2026-08-28/
LOCATION:Italian American Civic Association\, 1600 25th St.\, Vero Beach\, FL\, 32966
ATTACH;FMTTYPE=image/jpeg:https://italianamericanvero.com/wp-content/uploads/2023/07/pizza-oven.jpg
END:VEVENT
BEGIN:VEVENT
DTSTART;TZID=America/New_York:20260904T160000
DTEND;TZID=America/New_York:20260904T190000
DTSTAMP:20260423T111847
CREATED:20241123T220717Z
LAST-MODIFIED:20260212T122335Z
UID:10003593-1788537600-1788548400@italianamericanvero.com
SUMMARY:Friday Pizza
DESCRIPTION:Enjoy pizza and stromboli by our real Italian chefs.  Bar opens at 4 pm.\nCheck out our specials each week or make your own!
URL:https://italianamericanvero.com/event/friday-pizza/2026-09-04/
LOCATION:Italian American Civic Association\, 1600 25th St.\, Vero Beach\, FL\, 32966
ATTACH;FMTTYPE=image/jpeg:https://italianamericanvero.com/wp-content/uploads/2023/07/pizza-oven.jpg
END:VEVENT
BEGIN:VEVENT
DTSTART;TZID=America/New_York:20260911T160000
DTEND;TZID=America/New_York:20260911T190000
DTSTAMP:20260423T111847
CREATED:20241123T220717Z
LAST-MODIFIED:20260212T122335Z
UID:10003594-1789142400-1789153200@italianamericanvero.com
SUMMARY:Friday Pizza
DESCRIPTION:Enjoy pizza and stromboli by our real Italian chefs.  Bar opens at 4 pm.\nCheck out our specials each week or make your own!
URL:https://italianamericanvero.com/event/friday-pizza/2026-09-11/
LOCATION:Italian American Civic Association\, 1600 25th St.\, Vero Beach\, FL\, 32966
ATTACH;FMTTYPE=image/jpeg:https://italianamericanvero.com/wp-content/uploads/2023/07/pizza-oven.jpg
END:VEVENT
BEGIN:VEVENT
DTSTART;TZID=America/New_York:20260918T160000
DTEND;TZID=America/New_York:20260918T190000
DTSTAMP:20260423T111847
CREATED:20241123T220717Z
LAST-MODIFIED:20260212T122335Z
UID:10003595-1789747200-1789758000@italianamericanvero.com
SUMMARY:Friday Pizza
DESCRIPTION:Enjoy pizza and stromboli by our real Italian chefs.  Bar opens at 4 pm.\nCheck out our specials each week or make your own!
URL:https://italianamericanvero.com/event/friday-pizza/2026-09-18/
LOCATION:Italian American Civic Association\, 1600 25th St.\, Vero Beach\, FL\, 32966
ATTACH;FMTTYPE=image/jpeg:https://italianamericanvero.com/wp-content/uploads/2023/07/pizza-oven.jpg
END:VEVENT
BEGIN:VEVENT
DTSTART;TZID=America/New_York:20260925T160000
DTEND;TZID=America/New_York:20260925T190000
DTSTAMP:20260423T111847
CREATED:20241123T220717Z
LAST-MODIFIED:20260212T122335Z
UID:10003596-1790352000-1790362800@italianamericanvero.com
SUMMARY:Friday Pizza
DESCRIPTION:Enjoy pizza and stromboli by our real Italian chefs.  Bar opens at 4 pm.\nCheck out our specials each week or make your own!
URL:https://italianamericanvero.com/event/friday-pizza/2026-09-25/
LOCATION:Italian American Civic Association\, 1600 25th St.\, Vero Beach\, FL\, 32966
ATTACH;FMTTYPE=image/jpeg:https://italianamericanvero.com/wp-content/uploads/2023/07/pizza-oven.jpg
END:VEVENT
BEGIN:VEVENT
DTSTART;TZID=America/New_York:20261002T160000
DTEND;TZID=America/New_York:20261002T190000
DTSTAMP:20260423T111847
CREATED:20241123T220717Z
LAST-MODIFIED:20260212T122335Z
UID:10003597-1790956800-1790967600@italianamericanvero.com
SUMMARY:Friday Pizza
DESCRIPTION:Enjoy pizza and stromboli by our real Italian chefs.  Bar opens at 4 pm.\nCheck out our specials each week or make your own!
URL:https://italianamericanvero.com/event/friday-pizza/2026-10-02/
LOCATION:Italian American Civic Association\, 1600 25th St.\, Vero Beach\, FL\, 32966
ATTACH;FMTTYPE=image/jpeg:https://italianamericanvero.com/wp-content/uploads/2023/07/pizza-oven.jpg
END:VEVENT
BEGIN:VEVENT
DTSTART;TZID=America/New_York:20261009T160000
DTEND;TZID=America/New_York:20261009T190000
DTSTAMP:20260423T111847
CREATED:20241123T220717Z
LAST-MODIFIED:20260212T122335Z
UID:10003598-1791561600-1791572400@italianamericanvero.com
SUMMARY:Friday Pizza
DESCRIPTION:Enjoy pizza and stromboli by our real Italian chefs.  Bar opens at 4 pm.\nCheck out our specials each week or make your own!
URL:https://italianamericanvero.com/event/friday-pizza/2026-10-09/
LOCATION:Italian American Civic Association\, 1600 25th St.\, Vero Beach\, FL\, 32966
ATTACH;FMTTYPE=image/jpeg:https://italianamericanvero.com/wp-content/uploads/2023/07/pizza-oven.jpg
END:VEVENT
BEGIN:VEVENT
DTSTART;TZID=America/New_York:20261016T160000
DTEND;TZID=America/New_York:20261016T190000
DTSTAMP:20260423T111847
CREATED:20241123T220717Z
LAST-MODIFIED:20260212T122335Z
UID:10003599-1792166400-1792177200@italianamericanvero.com
SUMMARY:Friday Pizza
DESCRIPTION:Enjoy pizza and stromboli by our real Italian chefs.  Bar opens at 4 pm.\nCheck out our specials each week or make your own!
URL:https://italianamericanvero.com/event/friday-pizza/2026-10-16/
LOCATION:Italian American Civic Association\, 1600 25th St.\, Vero Beach\, FL\, 32966
ATTACH;FMTTYPE=image/jpeg:https://italianamericanvero.com/wp-content/uploads/2023/07/pizza-oven.jpg
END:VEVENT
BEGIN:VEVENT
DTSTART;TZID=America/New_York:20261023T160000
DTEND;TZID=America/New_York:20261023T190000
DTSTAMP:20260423T111847
CREATED:20241123T220717Z
LAST-MODIFIED:20260212T122335Z
UID:10003600-1792771200-1792782000@italianamericanvero.com
SUMMARY:Friday Pizza
DESCRIPTION:Enjoy pizza and stromboli by our real Italian chefs.  Bar opens at 4 pm.\nCheck out our specials each week or make your own!
URL:https://italianamericanvero.com/event/friday-pizza/2026-10-23/
LOCATION:Italian American Civic Association\, 1600 25th St.\, Vero Beach\, FL\, 32966
ATTACH;FMTTYPE=image/jpeg:https://italianamericanvero.com/wp-content/uploads/2023/07/pizza-oven.jpg
END:VEVENT
BEGIN:VEVENT
DTSTART;TZID=America/New_York:20261030T160000
DTEND;TZID=America/New_York:20261030T190000
DTSTAMP:20260423T111847
CREATED:20241123T220717Z
LAST-MODIFIED:20260212T122335Z
UID:10003601-1793376000-1793386800@italianamericanvero.com
SUMMARY:Friday Pizza
DESCRIPTION:Enjoy pizza and stromboli by our real Italian chefs.  Bar opens at 4 pm.\nCheck out our specials each week or make your own!
URL:https://italianamericanvero.com/event/friday-pizza/2026-10-30/
LOCATION:Italian American Civic Association\, 1600 25th St.\, Vero Beach\, FL\, 32966
ATTACH;FMTTYPE=image/jpeg:https://italianamericanvero.com/wp-content/uploads/2023/07/pizza-oven.jpg
END:VEVENT
BEGIN:VEVENT
DTSTART;TZID=America/New_York:20261106T160000
DTEND;TZID=America/New_York:20261106T190000
DTSTAMP:20260423T111847
CREATED:20241123T220717Z
LAST-MODIFIED:20260212T122335Z
UID:10003602-1793980800-1793991600@italianamericanvero.com
SUMMARY:Friday Pizza
DESCRIPTION:Enjoy pizza and stromboli by our real Italian chefs.  Bar opens at 4 pm.\nCheck out our specials each week or make your own!
URL:https://italianamericanvero.com/event/friday-pizza/2026-11-06/
LOCATION:Italian American Civic Association\, 1600 25th St.\, Vero Beach\, FL\, 32966
ATTACH;FMTTYPE=image/jpeg:https://italianamericanvero.com/wp-content/uploads/2023/07/pizza-oven.jpg
END:VEVENT
BEGIN:VEVENT
DTSTART;TZID=America/New_York:20261113T160000
DTEND;TZID=America/New_York:20261113T190000
DTSTAMP:20260423T111847
CREATED:20241123T220717Z
LAST-MODIFIED:20260212T122335Z
UID:10003603-1794585600-1794596400@italianamericanvero.com
SUMMARY:Friday Pizza
DESCRIPTION:Enjoy pizza and stromboli by our real Italian chefs.  Bar opens at 4 pm.\nCheck out our specials each week or make your own!
URL:https://italianamericanvero.com/event/friday-pizza/2026-11-13/
LOCATION:Italian American Civic Association\, 1600 25th St.\, Vero Beach\, FL\, 32966
ATTACH;FMTTYPE=image/jpeg:https://italianamericanvero.com/wp-content/uploads/2023/07/pizza-oven.jpg
END:VEVENT
END:VCALENDAR